BEGIN:VCALENDAR
VERSION:2.0
PRODID:spatie/icalendar-generator
NAME:Surgent's Anatomy of a Ransomware Event and Incident Response
X-WR-CALNAME:Surgent's Anatomy of a Ransomware Event and Incident Response
BEGIN:VTIMEZONE
TZID:America/Chicago
BEGIN:STANDARD
DTSTART:20261101T010000
TZOFFSETFROM:-0500
TZOFFSETTO:-0600
END:STANDARD
BEGIN:DAYLIGHT
DTSTART:20270314T010000
TZOFFSETFROM:-0600
TZOFFSETTO:-0500
END:DAYLIGHT
END:VTIMEZONE
BEGIN:VTIMEZONE
TZID:UTC
BEGIN:STANDARD
DTSTART:20250726T040303
TZOFFSETFROM:+0000
TZOFFSETTO:+0000
END:STANDARD
END:VTIMEZONE
BEGIN:VEVENT
UID:69e8487739e5b
DTSTAMP:20260422T040303Z
SUMMARY:Surgent's Anatomy of a Ransomware Event and Incident Response
URL:https://ms-cpa.org/catalog/events/4345762-surgents-anatomy-of-a-ransomw
 are-event-and-incident-response-2027-01-02
DTSTART;TZID=America/Chicago:20270201T140000
DTEND;TZID=America/Chicago:20270201T160000
END:VEVENT
END:VCALENDAR