BEGIN:VCALENDAR
VERSION:2.0
PRODID:spatie/icalendar-generator
NAME:Surgent's Reducing a Business Owner Client’s Exposure to Social Secu
 rity and Self-Employment Taxes
X-WR-CALNAME:Surgent's Reducing a Business Owner Client’s Exposure to Soc
 ial Security and Self-Employment Taxes
BEGIN:VTIMEZONE
TZID:America/Chicago
BEGIN:STANDARD
DTSTART:20261101T010000
TZOFFSETFROM:-0500
TZOFFSETTO:-0600
END:STANDARD
BEGIN:DAYLIGHT
DTSTART:20270314T010000
TZOFFSETFROM:-0600
TZOFFSETTO:-0500
END:DAYLIGHT
END:VTIMEZONE
BEGIN:VTIMEZONE
TZID:UTC
BEGIN:STANDARD
DTSTART:20250726T035755
TZOFFSETFROM:+0000
TZOFFSETTO:+0000
END:STANDARD
END:VTIMEZONE
BEGIN:VEVENT
UID:69e8474351e15
DTSTAMP:20260422T035755Z
SUMMARY:Surgent's Reducing a Business Owner Client’s Exposure to Social S
 ecurity and Self-Employment Taxes
URL:https://ms-cpa.org/catalog/events/4345685-surgents-reducing-a-business-
 owner-clients-exposure-to-social-security-and-self-employment-taxes-2027-2
 8-01
DTSTART;TZID=America/Chicago:20270128T090000
DTEND;TZID=America/Chicago:20270128T110000
END:VEVENT
END:VCALENDAR