BEGIN:VCALENDAR
VERSION:2.0
PRODID:spatie/icalendar-generator
NAME:Surgent's Form 1040 Return Review Boot Camp for New and Experienced Re
 viewers
X-WR-CALNAME:Surgent's Form 1040 Return Review Boot Camp for New and Experi
 enced Reviewers
BEGIN:VTIMEZONE
TZID:America/Chicago
BEGIN:STANDARD
DTSTART:20261101T010000
TZOFFSETFROM:-0500
TZOFFSETTO:-0600
END:STANDARD
BEGIN:DAYLIGHT
DTSTART:20270314T010000
TZOFFSETFROM:-0600
TZOFFSETTO:-0500
END:DAYLIGHT
END:VTIMEZONE
BEGIN:VTIMEZONE
TZID:UTC
BEGIN:STANDARD
DTSTART:20250726T040303
TZOFFSETFROM:+0000
TZOFFSETTO:+0000
END:STANDARD
END:VTIMEZONE
BEGIN:VEVENT
UID:69e848770d993
DTSTAMP:20260422T040303Z
SUMMARY:Surgent's Form 1040 Return Review Boot Camp for New and Experienced
  Reviewers
URL:https://ms-cpa.org/catalog/events/4345662-surgents-form-1040-return-rev
 iew-boot-camp-for-new-and-experienced-reviewers-2027-28-01
DTSTART;TZID=America/Chicago:20270128T080000
DTEND;TZID=America/Chicago:20270128T160000
END:VEVENT
END:VCALENDAR