BEGIN:VCALENDAR
VERSION:2.0
PRODID:spatie/icalendar-generator
NAME:Surgent's Leveraging AI for Data Analytics in Accounting
X-WR-CALNAME:Surgent's Leveraging AI for Data Analytics in Accounting
BEGIN:VTIMEZONE
TZID:America/Chicago
BEGIN:STANDARD
DTSTART:20261101T010000
TZOFFSETFROM:-0500
TZOFFSETTO:-0600
END:STANDARD
BEGIN:DAYLIGHT
DTSTART:20270314T010000
TZOFFSETFROM:-0600
TZOFFSETTO:-0500
END:DAYLIGHT
END:VTIMEZONE
BEGIN:VTIMEZONE
TZID:UTC
BEGIN:STANDARD
DTSTART:20250726T034926
TZOFFSETFROM:+0000
TZOFFSETTO:+0000
END:STANDARD
END:VTIMEZONE
BEGIN:VEVENT
UID:69e845464d701
DTSTAMP:20260422T034926Z
SUMMARY:Surgent's Leveraging AI for Data Analytics in Accounting
URL:https://ms-cpa.org/catalog/events/4345565-surgents-leveraging-ai-for-da
 ta-analytics-in-accounting-2027-27-01
DTSTART;TZID=America/Chicago:20270127T090000
DTEND;TZID=America/Chicago:20270127T110000
END:VEVENT
END:VCALENDAR