BEGIN:VCALENDAR
VERSION:2.0
PRODID:spatie/icalendar-generator
NAME:Surgent's Key Roth IRA and Roth 401(k) Rules for Funding and Tax-free 
 Distributions
X-WR-CALNAME:Surgent's Key Roth IRA and Roth 401(k) Rules for Funding and T
 ax-free Distributions
BEGIN:VTIMEZONE
TZID:America/Chicago
BEGIN:STANDARD
DTSTART:20261101T010000
TZOFFSETFROM:-0500
TZOFFSETTO:-0600
END:STANDARD
BEGIN:DAYLIGHT
DTSTART:20270314T010000
TZOFFSETFROM:-0600
TZOFFSETTO:-0500
END:DAYLIGHT
END:VTIMEZONE
BEGIN:VTIMEZONE
TZID:UTC
BEGIN:STANDARD
DTSTART:20250726T040150
TZOFFSETFROM:+0000
TZOFFSETTO:+0000
END:STANDARD
END:VTIMEZONE
BEGIN:VEVENT
UID:69e8482e8ec6c
DTSTAMP:20260422T040150Z
SUMMARY:Surgent's Key Roth IRA and Roth 401(k) Rules for Funding and Tax-fr
 ee Distributions
URL:https://ms-cpa.org/catalog/events/4345566-surgents-key-roth-ira-and-rot
 h-401k-rules-for-funding-and-tax-free-distributions-2027-27-01
DTSTART;TZID=America/Chicago:20270127T090000
DTEND;TZID=America/Chicago:20270127T110000
END:VEVENT
END:VCALENDAR