BEGIN:VCALENDAR
VERSION:2.0
PRODID:spatie/icalendar-generator
NAME:Surgent's The Americans with Disabilities Act and the Family and Medic
 al Leave Act
X-WR-CALNAME:Surgent's The Americans with Disabilities Act and the Family a
 nd Medical Leave Act
BEGIN:VTIMEZONE
TZID:America/Chicago
BEGIN:STANDARD
DTSTART:20261101T010000
TZOFFSETFROM:-0500
TZOFFSETTO:-0600
END:STANDARD
BEGIN:DAYLIGHT
DTSTART:20270314T010000
TZOFFSETFROM:-0600
TZOFFSETTO:-0500
END:DAYLIGHT
END:VTIMEZONE
BEGIN:VTIMEZONE
TZID:UTC
BEGIN:STANDARD
DTSTART:20250726T035917
TZOFFSETFROM:+0000
TZOFFSETTO:+0000
END:STANDARD
END:VTIMEZONE
BEGIN:VEVENT
UID:69e8479522749
DTSTAMP:20260422T035917Z
SUMMARY:Surgent's The Americans with Disabilities Act and the Family and Me
 dical Leave Act
URL:https://ms-cpa.org/catalog/events/4345557-surgents-the-americans-with-d
 isabilities-act-and-the-family-and-medical-leave-act-2027-27-01
DTSTART;TZID=America/Chicago:20270127T130000
DTEND;TZID=America/Chicago:20270127T150000
END:VEVENT
END:VCALENDAR