BEGIN:VCALENDAR
VERSION:2.0
PRODID:spatie/icalendar-generator
NAME:Surgent's Ethics for Tax Professionals
X-WR-CALNAME:Surgent's Ethics for Tax Professionals
BEGIN:VTIMEZONE
TZID:America/Chicago
BEGIN:STANDARD
DTSTART:20261101T010000
TZOFFSETFROM:-0500
TZOFFSETTO:-0600
END:STANDARD
BEGIN:DAYLIGHT
DTSTART:20270314T010000
TZOFFSETFROM:-0600
TZOFFSETTO:-0500
END:DAYLIGHT
END:VTIMEZONE
BEGIN:VTIMEZONE
TZID:UTC
BEGIN:STANDARD
DTSTART:20250726T035724
TZOFFSETFROM:+0000
TZOFFSETTO:+0000
END:STANDARD
END:VTIMEZONE
BEGIN:VEVENT
UID:69e84724b03c8
DTSTAMP:20260422T035724Z
SUMMARY:Surgent's Ethics for Tax Professionals
URL:https://ms-cpa.org/catalog/events/4345555-surgents-ethics-for-tax-profe
 ssionals-2027-27-01
DTSTART;TZID=America/Chicago:20270127T090000
DTEND;TZID=America/Chicago:20270127T110000
END:VEVENT
END:VCALENDAR