BEGIN:VCALENDAR
VERSION:2.0
PRODID:spatie/icalendar-generator
NAME:Surgent's Stock vs. Asset Acquisitions of C Corporations
X-WR-CALNAME:Surgent's Stock vs. Asset Acquisitions of C Corporations
BEGIN:VTIMEZONE
TZID:America/Chicago
BEGIN:STANDARD
DTSTART:20261101T010000
TZOFFSETFROM:-0500
TZOFFSETTO:-0600
END:STANDARD
BEGIN:DAYLIGHT
DTSTART:20270314T010000
TZOFFSETFROM:-0600
TZOFFSETTO:-0500
END:DAYLIGHT
END:VTIMEZONE
BEGIN:VTIMEZONE
TZID:UTC
BEGIN:STANDARD
DTSTART:20250726T035754
TZOFFSETFROM:+0000
TZOFFSETTO:+0000
END:STANDARD
END:VTIMEZONE
BEGIN:VEVENT
UID:69e8474217e38
DTSTAMP:20260422T035754Z
SUMMARY:Surgent's Stock vs. Asset Acquisitions of C Corporations
URL:https://ms-cpa.org/catalog/events/4345529-surgents-stock-vs-asset-acqui
 sitions-of-c-corporations-2027-26-01
DTSTART;TZID=America/Chicago:20270126T090000
DTEND;TZID=America/Chicago:20270126T110000
END:VEVENT
END:VCALENDAR