BEGIN:VCALENDAR
VERSION:2.0
PRODID:spatie/icalendar-generator
NAME:Surgent's Progressive Discipline and Termination
X-WR-CALNAME:Surgent's Progressive Discipline and Termination
BEGIN:VTIMEZONE
TZID:America/Chicago
BEGIN:STANDARD
DTSTART:20261101T010000
TZOFFSETFROM:-0500
TZOFFSETTO:-0600
END:STANDARD
BEGIN:DAYLIGHT
DTSTART:20270314T010000
TZOFFSETFROM:-0600
TZOFFSETTO:-0500
END:DAYLIGHT
END:VTIMEZONE
BEGIN:VTIMEZONE
TZID:UTC
BEGIN:STANDARD
DTSTART:20250726T034955
TZOFFSETFROM:+0000
TZOFFSETTO:+0000
END:STANDARD
END:VTIMEZONE
BEGIN:VEVENT
UID:69e845638a8af
DTSTAMP:20260422T034955Z
SUMMARY:Surgent's Progressive Discipline and Termination
URL:https://ms-cpa.org/catalog/events/4345526-surgents-progressive-discipli
 ne-and-termination-2027-26-01
DTSTART;TZID=America/Chicago:20270126T130000
DTEND;TZID=America/Chicago:20270126T150000
END:VEVENT
END:VCALENDAR