BEGIN:VCALENDAR
VERSION:2.0
PRODID:spatie/icalendar-generator
NAME:Surgent's Preparation and Compilation Engagements Under the SSARS
X-WR-CALNAME:Surgent's Preparation and Compilation Engagements Under the SS
 ARS
BEGIN:VTIMEZONE
TZID:America/Chicago
BEGIN:STANDARD
DTSTART:20261101T010000
TZOFFSETFROM:-0500
TZOFFSETTO:-0600
END:STANDARD
BEGIN:DAYLIGHT
DTSTART:20270314T010000
TZOFFSETFROM:-0600
TZOFFSETTO:-0500
END:DAYLIGHT
END:VTIMEZONE
BEGIN:VTIMEZONE
TZID:UTC
BEGIN:STANDARD
DTSTART:20250726T035331
TZOFFSETFROM:+0000
TZOFFSETTO:+0000
END:STANDARD
END:VTIMEZONE
BEGIN:VEVENT
UID:69e8463b8d53d
DTSTAMP:20260422T035331Z
SUMMARY:Surgent's Preparation and Compilation Engagements Under the SSARS
URL:https://ms-cpa.org/catalog/events/4345504-surgents-preparation-and-comp
 ilation-engagements-under-the-ssars-2027-26-01
DTSTART;TZID=America/Chicago:20270126T123000
DTEND;TZID=America/Chicago:20270126T163000
END:VEVENT
END:VCALENDAR