BEGIN:VCALENDAR
VERSION:2.0
PRODID:spatie/icalendar-generator
NAME:Surgent's The Essential Multistate Tax Update
X-WR-CALNAME:Surgent's The Essential Multistate Tax Update
BEGIN:VTIMEZONE
TZID:America/Chicago
BEGIN:STANDARD
DTSTART:20261101T010000
TZOFFSETFROM:-0500
TZOFFSETTO:-0600
END:STANDARD
BEGIN:DAYLIGHT
DTSTART:20270314T010000
TZOFFSETFROM:-0600
TZOFFSETTO:-0500
END:DAYLIGHT
END:VTIMEZONE
BEGIN:VTIMEZONE
TZID:UTC
BEGIN:STANDARD
DTSTART:20250726T040257
TZOFFSETFROM:+0000
TZOFFSETTO:+0000
END:STANDARD
END:VTIMEZONE
BEGIN:VEVENT
UID:69e848711a6bc
DTSTAMP:20260422T040257Z
SUMMARY:Surgent's The Essential Multistate Tax Update
URL:https://ms-cpa.org/catalog/events/4345458-surgents-the-essential-multis
 tate-tax-update-2027-26-01
DTSTART;TZID=America/Chicago:20270126T120000
DTEND;TZID=America/Chicago:20270126T160000
END:VEVENT
END:VCALENDAR