BEGIN:VCALENDAR
VERSION:2.0
PRODID:spatie/icalendar-generator
NAME:Surgent's Schedule 1-A: Implementing Important OBBBA Deductions for 20
 25
X-WR-CALNAME:Surgent's Schedule 1-A: Implementing Important OBBBA Deduction
 s for 2025
BEGIN:VTIMEZONE
TZID:America/Chicago
BEGIN:STANDARD
DTSTART:20261101T010000
TZOFFSETFROM:-0500
TZOFFSETTO:-0600
END:STANDARD
BEGIN:DAYLIGHT
DTSTART:20270314T010000
TZOFFSETFROM:-0600
TZOFFSETTO:-0500
END:DAYLIGHT
END:VTIMEZONE
BEGIN:VTIMEZONE
TZID:UTC
BEGIN:STANDARD
DTSTART:20250726T040256
TZOFFSETFROM:+0000
TZOFFSETTO:+0000
END:STANDARD
END:VTIMEZONE
BEGIN:VEVENT
UID:69e8487025748
DTSTAMP:20260422T040256Z
SUMMARY:Surgent's Schedule 1-A: Implementing Important OBBBA Deductions for
  2025
URL:https://ms-cpa.org/catalog/events/4345392-surgents-schedule-1-a-impleme
 nting-important-obbba-deductions-for-2025-2027-25-01
DTSTART;TZID=America/Chicago:20270125T090000
DTEND;TZID=America/Chicago:20270125T110000
END:VEVENT
END:VCALENDAR