BEGIN:VCALENDAR
VERSION:2.0
PRODID:spatie/icalendar-generator
NAME:Surgent's New and Expanded Tax Benefits Associated with Section 1202 
 – Qualified Small Business Stock
X-WR-CALNAME:Surgent's New and Expanded Tax Benefits Associated with Sectio
 n 1202 – Qualified Small Business Stock
BEGIN:VTIMEZONE
TZID:America/Chicago
BEGIN:STANDARD
DTSTART:20261101T010000
TZOFFSETFROM:-0500
TZOFFSETTO:-0600
END:STANDARD
BEGIN:DAYLIGHT
DTSTART:20270314T010000
TZOFFSETFROM:-0600
TZOFFSETTO:-0500
END:DAYLIGHT
END:VTIMEZONE
BEGIN:VTIMEZONE
TZID:UTC
BEGIN:STANDARD
DTSTART:20250726T040303
TZOFFSETFROM:+0000
TZOFFSETTO:+0000
END:STANDARD
END:VTIMEZONE
BEGIN:VEVENT
UID:69e8487722ad5
DTSTAMP:20260422T040303Z
SUMMARY:Surgent's New and Expanded Tax Benefits Associated with Section 120
 2 – Qualified Small Business Stock
URL:https://ms-cpa.org/catalog/events/4345387-surgents-new-and-expanded-tax
 -benefits-associated-with-section-1202-qualified-small-business-stock-2027
 -25-01
DTSTART;TZID=America/Chicago:20270125T120000
DTEND;TZID=America/Chicago:20270125T140000
END:VEVENT
END:VCALENDAR