BEGIN:VCALENDAR
VERSION:2.0
PRODID:spatie/icalendar-generator
NAME:Surgent's AI and Data Ethics in Accounting
X-WR-CALNAME:Surgent's AI and Data Ethics in Accounting
BEGIN:VTIMEZONE
TZID:America/Chicago
BEGIN:STANDARD
DTSTART:20261101T010000
TZOFFSETFROM:-0500
TZOFFSETTO:-0600
END:STANDARD
BEGIN:DAYLIGHT
DTSTART:20270314T010000
TZOFFSETFROM:-0600
TZOFFSETTO:-0500
END:DAYLIGHT
END:VTIMEZONE
BEGIN:VTIMEZONE
TZID:UTC
BEGIN:STANDARD
DTSTART:20250726T035627
TZOFFSETFROM:+0000
TZOFFSETTO:+0000
END:STANDARD
END:VTIMEZONE
BEGIN:VEVENT
UID:69e846eb6538c
DTSTAMP:20260422T035627Z
SUMMARY:Surgent's AI and Data Ethics in Accounting
URL:https://ms-cpa.org/catalog/events/4345322-surgents-ai-and-data-ethics-i
 n-accounting-2027-25-01
DTSTART;TZID=America/Chicago:20270125T130000
DTEND;TZID=America/Chicago:20270125T150000
END:VEVENT
END:VCALENDAR