BEGIN:VCALENDAR
VERSION:2.0
PRODID:spatie/icalendar-generator
NAME:Surgent's Ethical Considerations for CPAs
X-WR-CALNAME:Surgent's Ethical Considerations for CPAs
BEGIN:VTIMEZONE
TZID:America/Chicago
BEGIN:STANDARD
DTSTART:20261101T010000
TZOFFSETFROM:-0500
TZOFFSETTO:-0600
END:STANDARD
BEGIN:DAYLIGHT
DTSTART:20270314T010000
TZOFFSETFROM:-0600
TZOFFSETTO:-0500
END:DAYLIGHT
END:VTIMEZONE
BEGIN:VTIMEZONE
TZID:UTC
BEGIN:STANDARD
DTSTART:20250726T034907
TZOFFSETFROM:+0000
TZOFFSETTO:+0000
END:STANDARD
END:VTIMEZONE
BEGIN:VEVENT
UID:69e8453314586
DTSTAMP:20260422T034907Z
SUMMARY:Surgent's Ethical Considerations for CPAs
URL:https://ms-cpa.org/catalog/events/4345311-surgents-ethical-consideratio
 ns-for-cpas-2027-25-01
DTSTART;TZID=America/Chicago:20270125T120000
DTEND;TZID=America/Chicago:20270125T140000
END:VEVENT
END:VCALENDAR