BEGIN:VCALENDAR
VERSION:2.0
PRODID:spatie/icalendar-generator
NAME:Surgent's Advising a Client Regarding the Tax Consequences Associated 
 with Buying or Selling a Business
X-WR-CALNAME:Surgent's Advising a Client Regarding the Tax Consequences Ass
 ociated with Buying or Selling a Business
BEGIN:VTIMEZONE
TZID:America/Chicago
BEGIN:STANDARD
DTSTART:20261101T010000
TZOFFSETFROM:-0500
TZOFFSETTO:-0600
END:STANDARD
BEGIN:DAYLIGHT
DTSTART:20270314T010000
TZOFFSETFROM:-0600
TZOFFSETTO:-0500
END:DAYLIGHT
END:VTIMEZONE
BEGIN:VTIMEZONE
TZID:UTC
BEGIN:STANDARD
DTSTART:20250726T040657
TZOFFSETFROM:+0000
TZOFFSETTO:+0000
END:STANDARD
END:VTIMEZONE
BEGIN:VEVENT
UID:69e849617ac55
DTSTAMP:20260422T040657Z
SUMMARY:Surgent's Advising a Client Regarding the Tax Consequences Associat
 ed with Buying or Selling a Business
URL:https://ms-cpa.org/catalog/events/4345302-surgents-advising-a-client-re
 garding-the-tax-consequences-associated-with-buying-or-selling-a-business-
 2027-25-01
DTSTART;TZID=America/Chicago:20270125T130000
DTEND;TZID=America/Chicago:20270125T160000
END:VEVENT
END:VCALENDAR