BEGIN:VCALENDAR
VERSION:2.0
PRODID:spatie/icalendar-generator
NAME:Surgent's Assessing the Risk of Fraud in a Financial Statement Audit
X-WR-CALNAME:Surgent's Assessing the Risk of Fraud in a Financial Statement
  Audit
BEGIN:VTIMEZONE
TZID:America/Chicago
BEGIN:STANDARD
DTSTART:20261101T010000
TZOFFSETFROM:-0500
TZOFFSETTO:-0600
END:STANDARD
BEGIN:DAYLIGHT
DTSTART:20270314T010000
TZOFFSETFROM:-0600
TZOFFSETTO:-0500
END:DAYLIGHT
END:VTIMEZONE
BEGIN:VTIMEZONE
TZID:UTC
BEGIN:STANDARD
DTSTART:20250726T040150
TZOFFSETFROM:+0000
TZOFFSETTO:+0000
END:STANDARD
END:VTIMEZONE
BEGIN:VEVENT
UID:69e8482e8ec56
DTSTAMP:20260422T040150Z
SUMMARY:Surgent's Assessing the Risk of Fraud in a Financial Statement Audi
 t
URL:https://ms-cpa.org/catalog/events/4345287-surgents-assessing-the-risk-o
 f-fraud-in-a-financial-statement-audit-2027-25-01
DTSTART;TZID=America/Chicago:20270125T080000
DTEND;TZID=America/Chicago:20270125T160000
END:VEVENT
END:VCALENDAR