BEGIN:VCALENDAR
VERSION:2.0
PRODID:spatie/icalendar-generator
NAME:Surgent's Tax Planning for Rental Real Estate
X-WR-CALNAME:Surgent's Tax Planning for Rental Real Estate
BEGIN:VTIMEZONE
TZID:America/Chicago
BEGIN:STANDARD
DTSTART:20261101T010000
TZOFFSETFROM:-0500
TZOFFSETTO:-0600
END:STANDARD
BEGIN:DAYLIGHT
DTSTART:20270314T010000
TZOFFSETFROM:-0600
TZOFFSETTO:-0500
END:DAYLIGHT
END:VTIMEZONE
BEGIN:VTIMEZONE
TZID:UTC
BEGIN:STANDARD
DTSTART:20250726T035958
TZOFFSETFROM:+0000
TZOFFSETTO:+0000
END:STANDARD
END:VTIMEZONE
BEGIN:VEVENT
UID:69e847be13315
DTSTAMP:20260422T035958Z
SUMMARY:Surgent's Tax Planning for Rental Real Estate
URL:https://ms-cpa.org/catalog/events/4345243-surgents-tax-planning-for-ren
 tal-real-estate-2027-22-01
DTSTART;TZID=America/Chicago:20270122T120000
DTEND;TZID=America/Chicago:20270122T160000
END:VEVENT
END:VCALENDAR