BEGIN:VCALENDAR
VERSION:2.0
PRODID:spatie/icalendar-generator
NAME:Surgent's The Accounting Leaders’ Survival Guide - Strategies for Ma
 naging Organizational Change
X-WR-CALNAME:Surgent's The Accounting Leaders’ Survival Guide - Strategie
 s for Managing Organizational Change
BEGIN:VTIMEZONE
TZID:America/Chicago
BEGIN:STANDARD
DTSTART:20261101T010000
TZOFFSETFROM:-0500
TZOFFSETTO:-0600
END:STANDARD
BEGIN:DAYLIGHT
DTSTART:20270314T010000
TZOFFSETFROM:-0600
TZOFFSETTO:-0500
END:DAYLIGHT
END:VTIMEZONE
BEGIN:VTIMEZONE
TZID:UTC
BEGIN:STANDARD
DTSTART:20250726T040227
TZOFFSETFROM:+0000
TZOFFSETTO:+0000
END:STANDARD
END:VTIMEZONE
BEGIN:VEVENT
UID:69e84853b6b1a
DTSTAMP:20260422T040227Z
SUMMARY:Surgent's The Accounting Leaders’ Survival Guide - Strategies for
  Managing Organizational Change
URL:https://ms-cpa.org/catalog/events/4345203-surgents-the-accounting-leade
 rs-survival-guide-strategies-for-managing-organizational-change-2027-22-01
DTSTART;TZID=America/Chicago:20270122T120000
DTEND;TZID=America/Chicago:20270122T140000
END:VEVENT
END:VCALENDAR