BEGIN:VCALENDAR
VERSION:2.0
PRODID:spatie/icalendar-generator
NAME:Surgent's Compilations\, Reviews\, and Preparations: Engagement Perfor
 mance and Annual Update
X-WR-CALNAME:Surgent's Compilations\, Reviews\, and Preparations: Engagemen
 t Performance and Annual Update
BEGIN:VTIMEZONE
TZID:America/Chicago
BEGIN:STANDARD
DTSTART:20261101T010000
TZOFFSETFROM:-0500
TZOFFSETTO:-0600
END:STANDARD
BEGIN:DAYLIGHT
DTSTART:20270314T010000
TZOFFSETFROM:-0600
TZOFFSETTO:-0500
END:DAYLIGHT
END:VTIMEZONE
BEGIN:VTIMEZONE
TZID:UTC
BEGIN:STANDARD
DTSTART:20250726T035439
TZOFFSETFROM:+0000
TZOFFSETTO:+0000
END:STANDARD
END:VTIMEZONE
BEGIN:VEVENT
UID:69e8467fe89c4
DTSTAMP:20260422T035439Z
SUMMARY:Surgent's Compilations\, Reviews\, and Preparations: Engagement Per
 formance and Annual Update
URL:https://ms-cpa.org/catalog/events/4345162-surgents-compilations-reviews
 -and-preparations-engagement-performance-and-annual-update-2027-22-01
DTSTART;TZID=America/Chicago:20270122T080000
DTEND;TZID=America/Chicago:20270122T160000
END:VEVENT
END:VCALENDAR