BEGIN:VCALENDAR
VERSION:2.0
PRODID:spatie/icalendar-generator
NAME:Surgent's Review and Analysis of Crucial OBBBA Changes
X-WR-CALNAME:Surgent's Review and Analysis of Crucial OBBBA Changes
BEGIN:VTIMEZONE
TZID:America/Chicago
BEGIN:STANDARD
DTSTART:20261101T010000
TZOFFSETFROM:-0500
TZOFFSETTO:-0600
END:STANDARD
BEGIN:DAYLIGHT
DTSTART:20270314T010000
TZOFFSETFROM:-0600
TZOFFSETTO:-0500
END:DAYLIGHT
END:VTIMEZONE
BEGIN:VTIMEZONE
TZID:UTC
BEGIN:STANDARD
DTSTART:20250726T040116
TZOFFSETFROM:+0000
TZOFFSETTO:+0000
END:STANDARD
END:VTIMEZONE
BEGIN:VEVENT
UID:69e8480c3f643
DTSTAMP:20260422T040116Z
SUMMARY:Surgent's Review and Analysis of Crucial OBBBA Changes
URL:https://ms-cpa.org/catalog/events/4345156-surgents-review-and-analysis-
 of-crucial-obbba-changes-2027-22-01
DTSTART;TZID=America/Chicago:20270122T130000
DTEND;TZID=America/Chicago:20270122T150000
END:VEVENT
END:VCALENDAR