BEGIN:VCALENDAR
VERSION:2.0
PRODID:spatie/icalendar-generator
NAME:The Best Federal Tax Update Course by Surgent
X-WR-CALNAME:The Best Federal Tax Update Course by Surgent
BEGIN:VTIMEZONE
TZID:America/Chicago
BEGIN:STANDARD
DTSTART:20261101T010000
TZOFFSETFROM:-0500
TZOFFSETTO:-0600
END:STANDARD
BEGIN:DAYLIGHT
DTSTART:20270314T010000
TZOFFSETFROM:-0600
TZOFFSETTO:-0500
END:DAYLIGHT
END:VTIMEZONE
BEGIN:VTIMEZONE
TZID:UTC
BEGIN:STANDARD
DTSTART:20250726T035638
TZOFFSETFROM:+0000
TZOFFSETTO:+0000
END:STANDARD
END:VTIMEZONE
BEGIN:VEVENT
UID:69e846f6795df
DTSTAMP:20260422T035638Z
SUMMARY:The Best Federal Tax Update Course by Surgent
URL:https://ms-cpa.org/catalog/events/4345150-the-best-federal-tax-update-c
 ourse-by-surgent-2027-22-01
DTSTART;TZID=America/Chicago:20270122T080000
DTEND;TZID=America/Chicago:20270122T160000
END:VEVENT
END:VCALENDAR