BEGIN:VCALENDAR
VERSION:2.0
PRODID:spatie/icalendar-generator
NAME:Surgent's Technical Business Practice Issues and Tax Forms for Experie
 nced Practitioners
X-WR-CALNAME:Surgent's Technical Business Practice Issues and Tax Forms for
  Experienced Practitioners
BEGIN:VTIMEZONE
TZID:America/Chicago
BEGIN:STANDARD
DTSTART:20261101T010000
TZOFFSETFROM:-0500
TZOFFSETTO:-0600
END:STANDARD
BEGIN:DAYLIGHT
DTSTART:20270314T010000
TZOFFSETFROM:-0600
TZOFFSETTO:-0500
END:DAYLIGHT
END:VTIMEZONE
BEGIN:VTIMEZONE
TZID:UTC
BEGIN:STANDARD
DTSTART:20250726T034720
TZOFFSETFROM:+0000
TZOFFSETTO:+0000
END:STANDARD
END:VTIMEZONE
BEGIN:VEVENT
UID:69e844c89963b
DTSTAMP:20260422T034720Z
SUMMARY:Surgent's Technical Business Practice Issues and Tax Forms for Expe
 rienced Practitioners
URL:https://ms-cpa.org/catalog/events/4345129-surgents-technical-business-p
 ractice-issues-and-tax-forms-for-experienced-practitioners-2027-22-01
DTSTART;TZID=America/Chicago:20270122T080000
DTEND;TZID=America/Chicago:20270122T160000
END:VEVENT
END:VCALENDAR