BEGIN:VCALENDAR
VERSION:2.0
PRODID:spatie/icalendar-generator
NAME:Surgent's Strategies for Maximizing Social Security Benefits
X-WR-CALNAME:Surgent's Strategies for Maximizing Social Security Benefits
BEGIN:VTIMEZONE
TZID:America/Chicago
BEGIN:STANDARD
DTSTART:20261101T010000
TZOFFSETFROM:-0500
TZOFFSETTO:-0600
END:STANDARD
BEGIN:DAYLIGHT
DTSTART:20270314T010000
TZOFFSETFROM:-0600
TZOFFSETTO:-0500
END:DAYLIGHT
END:VTIMEZONE
BEGIN:VTIMEZONE
TZID:UTC
BEGIN:STANDARD
DTSTART:20250726T035718
TZOFFSETFROM:+0000
TZOFFSETTO:+0000
END:STANDARD
END:VTIMEZONE
BEGIN:VEVENT
UID:69e8471e80596
DTSTAMP:20260422T035718Z
SUMMARY:Surgent's Strategies for Maximizing Social Security Benefits
URL:https://ms-cpa.org/catalog/events/4345077-surgents-strategies-for-maxim
 izing-social-security-benefits-2027-21-01
DTSTART;TZID=America/Chicago:20270121T090000
DTEND;TZID=America/Chicago:20270121T110000
END:VEVENT
END:VCALENDAR