BEGIN:VCALENDAR
VERSION:2.0
PRODID:spatie/icalendar-generator
NAME:Surgent's Technical Individual Practice Issues and Tax Forms for Exper
 ienced Practitioners
X-WR-CALNAME:Surgent's Technical Individual Practice Issues and Tax Forms f
 or Experienced Practitioners
BEGIN:VTIMEZONE
TZID:America/Chicago
BEGIN:STANDARD
DTSTART:20261101T010000
TZOFFSETFROM:-0500
TZOFFSETTO:-0600
END:STANDARD
BEGIN:DAYLIGHT
DTSTART:20270314T010000
TZOFFSETFROM:-0600
TZOFFSETTO:-0500
END:DAYLIGHT
END:VTIMEZONE
BEGIN:VTIMEZONE
TZID:UTC
BEGIN:STANDARD
DTSTART:20250726T070604
TZOFFSETFROM:+0000
TZOFFSETTO:+0000
END:STANDARD
END:VTIMEZONE
BEGIN:VEVENT
UID:69e8735c5cc38
DTSTAMP:20260422T070604Z
SUMMARY:Surgent's Technical Individual Practice Issues and Tax Forms for Ex
 perienced Practitioners
URL:https://ms-cpa.org/catalog/events/4344999-surgents-technical-individual
 -practice-issues-and-tax-forms-for-experienced-practitioners-2027-21-01
DTSTART;TZID=America/Chicago:20270121T080000
DTEND;TZID=America/Chicago:20270121T160000
END:VEVENT
END:VCALENDAR