BEGIN:VCALENDAR
VERSION:2.0
PRODID:spatie/icalendar-generator
NAME:Surgent's Navigating AI Compliance: The EU AI Act for U.S. Finance and
  Accounting Leaders
X-WR-CALNAME:Surgent's Navigating AI Compliance: The EU AI Act for U.S. Fin
 ance and Accounting Leaders
BEGIN:VTIMEZONE
TZID:America/Chicago
BEGIN:STANDARD
DTSTART:20261101T010000
TZOFFSETFROM:-0500
TZOFFSETTO:-0600
END:STANDARD
BEGIN:DAYLIGHT
DTSTART:20270314T010000
TZOFFSETFROM:-0600
TZOFFSETTO:-0500
END:DAYLIGHT
END:VTIMEZONE
BEGIN:VTIMEZONE
TZID:UTC
BEGIN:STANDARD
DTSTART:20250726T041127
TZOFFSETFROM:+0000
TZOFFSETTO:+0000
END:STANDARD
END:VTIMEZONE
BEGIN:VEVENT
UID:69e84a6fdc003
DTSTAMP:20260422T041127Z
SUMMARY:Surgent's Navigating AI Compliance: The EU AI Act for U.S. Finance 
 and Accounting Leaders
URL:https://ms-cpa.org/catalog/events/4344989-surgents-navigating-ai-compli
 ance-the-eu-ai-act-for-us-finance-and-accounting-leaders-2027-21-01
DTSTART;TZID=America/Chicago:20270121T120000
DTEND;TZID=America/Chicago:20270121T140000
END:VEVENT
END:VCALENDAR