BEGIN:VCALENDAR
VERSION:2.0
PRODID:spatie/icalendar-generator
NAME:Surgent's Depreciation Rules for Bonus and Section 179 Expensing
X-WR-CALNAME:Surgent's Depreciation Rules for Bonus and Section 179 Expensi
 ng
BEGIN:VTIMEZONE
TZID:America/Chicago
BEGIN:STANDARD
DTSTART:20261101T010000
TZOFFSETFROM:-0500
TZOFFSETTO:-0600
END:STANDARD
BEGIN:DAYLIGHT
DTSTART:20270314T010000
TZOFFSETFROM:-0600
TZOFFSETTO:-0500
END:DAYLIGHT
END:VTIMEZONE
BEGIN:VTIMEZONE
TZID:UTC
BEGIN:STANDARD
DTSTART:20250726T035507
TZOFFSETFROM:+0000
TZOFFSETTO:+0000
END:STANDARD
END:VTIMEZONE
BEGIN:VEVENT
UID:69e8469b326ef
DTSTAMP:20260422T035507Z
SUMMARY:Surgent's Depreciation Rules for Bonus and Section 179 Expensing
URL:https://ms-cpa.org/catalog/events/4344871-surgents-depreciation-rules-f
 or-bonus-and-section-179-expensing-2027-20-01
DTSTART;TZID=America/Chicago:20270120T120000
DTEND;TZID=America/Chicago:20270120T140000
END:VEVENT
END:VCALENDAR