BEGIN:VCALENDAR
VERSION:2.0
PRODID:spatie/icalendar-generator
NAME:Surgent's Foundations of Cybersecurity for Financial Professionals
X-WR-CALNAME:Surgent's Foundations of Cybersecurity for Financial Professio
 nals
BEGIN:VTIMEZONE
TZID:America/Chicago
BEGIN:STANDARD
DTSTART:20261101T010000
TZOFFSETFROM:-0500
TZOFFSETTO:-0600
END:STANDARD
BEGIN:DAYLIGHT
DTSTART:20270314T010000
TZOFFSETFROM:-0600
TZOFFSETTO:-0500
END:DAYLIGHT
END:VTIMEZONE
BEGIN:VTIMEZONE
TZID:UTC
BEGIN:STANDARD
DTSTART:20250726T035916
TZOFFSETFROM:+0000
TZOFFSETTO:+0000
END:STANDARD
END:VTIMEZONE
BEGIN:VEVENT
UID:69e84794eaa11
DTSTAMP:20260422T035916Z
SUMMARY:Surgent's Foundations of Cybersecurity for Financial Professionals
URL:https://ms-cpa.org/catalog/events/4344864-surgents-foundations-of-cyber
 security-for-financial-professionals-2027-20-01
DTSTART;TZID=America/Chicago:20270120T140000
DTEND;TZID=America/Chicago:20270120T160000
END:VEVENT
END:VCALENDAR