BEGIN:VCALENDAR
VERSION:2.0
PRODID:spatie/icalendar-generator
NAME:Surgent's Advanced Critical Tax Issues for S Corporations
X-WR-CALNAME:Surgent's Advanced Critical Tax Issues for S Corporations
BEGIN:VTIMEZONE
TZID:America/Chicago
BEGIN:STANDARD
DTSTART:20261101T010000
TZOFFSETFROM:-0500
TZOFFSETTO:-0600
END:STANDARD
BEGIN:DAYLIGHT
DTSTART:20270314T010000
TZOFFSETFROM:-0600
TZOFFSETTO:-0500
END:DAYLIGHT
END:VTIMEZONE
BEGIN:VTIMEZONE
TZID:UTC
BEGIN:STANDARD
DTSTART:20250726T035337
TZOFFSETFROM:+0000
TZOFFSETTO:+0000
END:STANDARD
END:VTIMEZONE
BEGIN:VEVENT
UID:69e8464149911
DTSTAMP:20260422T035337Z
SUMMARY:Surgent's Advanced Critical Tax Issues for S Corporations
URL:https://ms-cpa.org/catalog/events/4344788-surgents-advanced-critical-ta
 x-issues-for-s-corporations-2027-20-01
DTSTART;TZID=America/Chicago:20270120T090000
DTEND;TZID=America/Chicago:20270120T170000
END:VEVENT
END:VCALENDAR