BEGIN:VCALENDAR
VERSION:2.0
PRODID:spatie/icalendar-generator
NAME:Surgent's Real Estate Taxation: Critical Considerations
X-WR-CALNAME:Surgent's Real Estate Taxation: Critical Considerations
BEGIN:VTIMEZONE
TZID:America/Chicago
BEGIN:STANDARD
DTSTART:20261101T010000
TZOFFSETFROM:-0500
TZOFFSETTO:-0600
END:STANDARD
BEGIN:DAYLIGHT
DTSTART:20270314T010000
TZOFFSETFROM:-0600
TZOFFSETTO:-0500
END:DAYLIGHT
END:VTIMEZONE
BEGIN:VTIMEZONE
TZID:UTC
BEGIN:STANDARD
DTSTART:20250726T035440
TZOFFSETFROM:+0000
TZOFFSETTO:+0000
END:STANDARD
END:VTIMEZONE
BEGIN:VEVENT
UID:69e84680210cc
DTSTAMP:20260422T035440Z
SUMMARY:Surgent's Real Estate Taxation: Critical Considerations
URL:https://ms-cpa.org/catalog/events/4344715-surgents-real-estate-taxation
 -critical-considerations-2027-19-01
DTSTART;TZID=America/Chicago:20270119T120000
DTEND;TZID=America/Chicago:20270119T160000
END:VEVENT
END:VCALENDAR