BEGIN:VCALENDAR
VERSION:2.0
PRODID:spatie/icalendar-generator
NAME:Surgent's Liquidation of Flow-Through Entities for LLCs and Partnershi
 ps
X-WR-CALNAME:Surgent's Liquidation of Flow-Through Entities for LLCs and Pa
 rtnerships
BEGIN:VTIMEZONE
TZID:America/Chicago
BEGIN:STANDARD
DTSTART:20261101T010000
TZOFFSETFROM:-0500
TZOFFSETTO:-0600
END:STANDARD
BEGIN:DAYLIGHT
DTSTART:20270314T010000
TZOFFSETFROM:-0600
TZOFFSETTO:-0500
END:DAYLIGHT
END:VTIMEZONE
BEGIN:VTIMEZONE
TZID:UTC
BEGIN:STANDARD
DTSTART:20250726T040039
TZOFFSETFROM:+0000
TZOFFSETTO:+0000
END:STANDARD
END:VTIMEZONE
BEGIN:VEVENT
UID:69e847e70f863
DTSTAMP:20260422T040039Z
SUMMARY:Surgent's Liquidation of Flow-Through Entities for LLCs and Partner
 ships
URL:https://ms-cpa.org/catalog/events/4344699-surgents-liquidation-of-flow-
 through-entities-for-llcs-and-partnerships-2027-19-01
DTSTART;TZID=America/Chicago:20270119T090000
DTEND;TZID=America/Chicago:20270119T110000
END:VEVENT
END:VCALENDAR