BEGIN:VCALENDAR
VERSION:2.0
PRODID:spatie/icalendar-generator
NAME:Surgent’s Advanced Critical Tax Issues for Limited Liability Compani
 es and Partnerships
X-WR-CALNAME:Surgent’s Advanced Critical Tax Issues for Limited Liability
  Companies and Partnerships
BEGIN:VTIMEZONE
TZID:America/Chicago
BEGIN:STANDARD
DTSTART:20261101T010000
TZOFFSETFROM:-0500
TZOFFSETTO:-0600
END:STANDARD
BEGIN:DAYLIGHT
DTSTART:20270314T010000
TZOFFSETFROM:-0600
TZOFFSETTO:-0500
END:DAYLIGHT
END:VTIMEZONE
BEGIN:VTIMEZONE
TZID:UTC
BEGIN:STANDARD
DTSTART:20250726T035851
TZOFFSETFROM:+0000
TZOFFSETTO:+0000
END:STANDARD
END:VTIMEZONE
BEGIN:VEVENT
UID:69e8477bbb473
DTSTAMP:20260422T035851Z
SUMMARY:Surgent’s Advanced Critical Tax Issues for Limited Liability Comp
 anies and Partnerships
URL:https://ms-cpa.org/catalog/events/4344612-surgents-advanced-critical-ta
 x-issues-for-limited-liability-companies-and-partnerships-2027-19-01
DTSTART;TZID=America/Chicago:20270119T090000
DTEND;TZID=America/Chicago:20270119T170000
END:VEVENT
END:VCALENDAR