BEGIN:VCALENDAR
VERSION:2.0
PRODID:spatie/icalendar-generator
NAME:Surgent's Tax and Advisory with Agentic AI
X-WR-CALNAME:Surgent's Tax and Advisory with Agentic AI
BEGIN:VTIMEZONE
TZID:America/Chicago
BEGIN:STANDARD
DTSTART:20261101T010000
TZOFFSETFROM:-0500
TZOFFSETTO:-0600
END:STANDARD
BEGIN:DAYLIGHT
DTSTART:20270314T010000
TZOFFSETFROM:-0600
TZOFFSETTO:-0500
END:DAYLIGHT
END:VTIMEZONE
BEGIN:VTIMEZONE
TZID:UTC
BEGIN:STANDARD
DTSTART:20250726T035307
TZOFFSETFROM:+0000
TZOFFSETTO:+0000
END:STANDARD
END:VTIMEZONE
BEGIN:VEVENT
UID:69e8462368803
DTSTAMP:20260422T035307Z
SUMMARY:Surgent's Tax and Advisory with Agentic AI
URL:https://ms-cpa.org/catalog/events/4344593-surgents-tax-and-advisory-wit
 h-agentic-ai-2027-15-01
DTSTART;TZID=America/Chicago:20270115T080000
DTEND;TZID=America/Chicago:20270115T100000
END:VEVENT
END:VCALENDAR