BEGIN:VCALENDAR
VERSION:2.0
PRODID:spatie/icalendar-generator
NAME:Surgent's Guide to Calculating S Corporation Shareholder Stock and Loa
 n Basis
X-WR-CALNAME:Surgent's Guide to Calculating S Corporation Shareholder Stock
  and Loan Basis
BEGIN:VTIMEZONE
TZID:America/Chicago
BEGIN:STANDARD
DTSTART:20261101T010000
TZOFFSETFROM:-0500
TZOFFSETTO:-0600
END:STANDARD
BEGIN:DAYLIGHT
DTSTART:20270314T010000
TZOFFSETFROM:-0600
TZOFFSETTO:-0500
END:DAYLIGHT
END:VTIMEZONE
BEGIN:VTIMEZONE
TZID:UTC
BEGIN:STANDARD
DTSTART:20250726T040256
TZOFFSETFROM:+0000
TZOFFSETTO:+0000
END:STANDARD
END:VTIMEZONE
BEGIN:VEVENT
UID:69e8487025b6d
DTSTAMP:20260422T040256Z
SUMMARY:Surgent's Guide to Calculating S Corporation Shareholder Stock and 
 Loan Basis
URL:https://ms-cpa.org/catalog/events/4344528-surgents-guide-to-calculating
 -s-corporation-shareholder-stock-and-loan-basis-2027-15-01
DTSTART;TZID=America/Chicago:20270115T080000
DTEND;TZID=America/Chicago:20270115T100000
END:VEVENT
END:VCALENDAR