BEGIN:VCALENDAR
VERSION:2.0
PRODID:spatie/icalendar-generator
NAME:Surgent's You’ve Got This: An Introduction to Yellow Book and Single
  Audits
X-WR-CALNAME:Surgent's You’ve Got This: An Introduction to Yellow Book an
 d Single Audits
BEGIN:VTIMEZONE
TZID:America/Chicago
BEGIN:STANDARD
DTSTART:20261101T010000
TZOFFSETFROM:-0500
TZOFFSETTO:-0600
END:STANDARD
BEGIN:DAYLIGHT
DTSTART:20270314T010000
TZOFFSETFROM:-0600
TZOFFSETTO:-0500
END:DAYLIGHT
END:VTIMEZONE
BEGIN:VTIMEZONE
TZID:UTC
BEGIN:STANDARD
DTSTART:20250726T071052
TZOFFSETFROM:+0000
TZOFFSETTO:+0000
END:STANDARD
END:VTIMEZONE
BEGIN:VEVENT
UID:69e8747cbf3f6
DTSTAMP:20260422T071052Z
SUMMARY:Surgent's You’ve Got This: An Introduction to Yellow Book and Sin
 gle Audits
URL:https://ms-cpa.org/catalog/events/4344499-surgents-youve-got-this-an-in
 troduction-to-yellow-book-and-single-audits-2027-14-01
DTSTART;TZID=America/Chicago:20270114T123000
DTEND;TZID=America/Chicago:20270114T163000
END:VEVENT
END:VCALENDAR