BEGIN:VCALENDAR
VERSION:2.0
PRODID:spatie/icalendar-generator
NAME:Surgent's Understanding S Corporation Taxation: Shareholder Basis\, AA
 A\, and Retained Earnings
X-WR-CALNAME:Surgent's Understanding S Corporation Taxation: Shareholder Ba
 sis\, AAA\, and Retained Earnings
BEGIN:VTIMEZONE
TZID:America/Chicago
BEGIN:STANDARD
DTSTART:20261101T010000
TZOFFSETFROM:-0500
TZOFFSETTO:-0600
END:STANDARD
BEGIN:DAYLIGHT
DTSTART:20270314T010000
TZOFFSETFROM:-0600
TZOFFSETTO:-0500
END:DAYLIGHT
END:VTIMEZONE
BEGIN:VTIMEZONE
TZID:UTC
BEGIN:STANDARD
DTSTART:20250726T035958
TZOFFSETFROM:+0000
TZOFFSETTO:+0000
END:STANDARD
END:VTIMEZONE
BEGIN:VEVENT
UID:69e847be97824
DTSTAMP:20260422T035958Z
SUMMARY:Surgent's Understanding S Corporation Taxation: Shareholder Basis\,
  AAA\, and Retained Earnings
URL:https://ms-cpa.org/catalog/events/4344456-surgents-understanding-s-corp
 oration-taxation-shareholder-basis-aaa-and-retained-earnings-2027-14-01
DTSTART;TZID=America/Chicago:20270114T080000
DTEND;TZID=America/Chicago:20270114T100000
END:VEVENT
END:VCALENDAR