BEGIN:VCALENDAR
VERSION:2.0
PRODID:spatie/icalendar-generator
NAME:Surgent's Required Minimum Distributions: Compliance and Planning
X-WR-CALNAME:Surgent's Required Minimum Distributions: Compliance and Plann
 ing
BEGIN:VTIMEZONE
TZID:America/Chicago
BEGIN:STANDARD
DTSTART:20261101T010000
TZOFFSETFROM:-0500
TZOFFSETTO:-0600
END:STANDARD
BEGIN:DAYLIGHT
DTSTART:20270314T010000
TZOFFSETFROM:-0600
TZOFFSETTO:-0500
END:DAYLIGHT
END:VTIMEZONE
BEGIN:VTIMEZONE
TZID:UTC
BEGIN:STANDARD
DTSTART:20250726T035331
TZOFFSETFROM:+0000
TZOFFSETTO:+0000
END:STANDARD
END:VTIMEZONE
BEGIN:VEVENT
UID:69e8463bba296
DTSTAMP:20260422T035331Z
SUMMARY:Surgent's Required Minimum Distributions: Compliance and Planning
URL:https://ms-cpa.org/catalog/events/4344452-surgents-required-minimum-dis
 tributions-compliance-and-planning-2027-14-01
DTSTART;TZID=America/Chicago:20270114T080000
DTEND;TZID=America/Chicago:20270114T120000
END:VEVENT
END:VCALENDAR