BEGIN:VCALENDAR
VERSION:2.0
PRODID:spatie/icalendar-generator
NAME:Surgent's Defending Firms: Email Fraud\, Cloud Risks\, Cyber Insurance
 \, and Remote Work Security
X-WR-CALNAME:Surgent's Defending Firms: Email Fraud\, Cloud Risks\, Cyber I
 nsurance\, and Remote Work Security
BEGIN:VTIMEZONE
TZID:America/Chicago
BEGIN:STANDARD
DTSTART:20261101T010000
TZOFFSETFROM:-0500
TZOFFSETTO:-0600
END:STANDARD
BEGIN:DAYLIGHT
DTSTART:20270314T010000
TZOFFSETFROM:-0600
TZOFFSETTO:-0500
END:DAYLIGHT
END:VTIMEZONE
BEGIN:VTIMEZONE
TZID:UTC
BEGIN:STANDARD
DTSTART:20250726T061319
TZOFFSETFROM:+0000
TZOFFSETTO:+0000
END:STANDARD
END:VTIMEZONE
BEGIN:VEVENT
UID:69e866ff913e0
DTSTAMP:20260422T061319Z
SUMMARY:Surgent's Defending Firms: Email Fraud\, Cloud Risks\, Cyber Insura
 nce\, and Remote Work Security
URL:https://ms-cpa.org/catalog/events/4344394-surgents-defending-firms-emai
 l-fraud-cloud-risks-cyber-insurance-and-remote-work-security-2027-14-01
DTSTART;TZID=America/Chicago:20270114T120000
DTEND;TZID=America/Chicago:20270114T140000
END:VEVENT
END:VCALENDAR