BEGIN:VCALENDAR
VERSION:2.0
PRODID:spatie/icalendar-generator
NAME:Surgent's Where To Live in Retirement
X-WR-CALNAME:Surgent's Where To Live in Retirement
BEGIN:VTIMEZONE
TZID:America/Chicago
BEGIN:STANDARD
DTSTART:20261101T010000
TZOFFSETFROM:-0500
TZOFFSETTO:-0600
END:STANDARD
BEGIN:DAYLIGHT
DTSTART:20270314T010000
TZOFFSETFROM:-0600
TZOFFSETTO:-0500
END:DAYLIGHT
END:VTIMEZONE
BEGIN:VTIMEZONE
TZID:UTC
BEGIN:STANDARD
DTSTART:20250726T035413
TZOFFSETFROM:+0000
TZOFFSETTO:+0000
END:STANDARD
END:VTIMEZONE
BEGIN:VEVENT
UID:69e84665a2d79
DTSTAMP:20260422T035413Z
SUMMARY:Surgent's Where To Live in Retirement
URL:https://ms-cpa.org/catalog/events/4344159-surgents-where-to-live-in-ret
 irement-2027-12-01
DTSTART;TZID=America/Chicago:20270112T120000
DTEND;TZID=America/Chicago:20270112T140000
END:VEVENT
END:VCALENDAR