BEGIN:VCALENDAR
VERSION:2.0
PRODID:spatie/icalendar-generator
NAME:Surgent's Tax Forms Boot Camp: LLCs\, Partnerships\, and S Corporation
 s
X-WR-CALNAME:Surgent's Tax Forms Boot Camp: LLCs\, Partnerships\, and S Cor
 porations
BEGIN:VTIMEZONE
TZID:America/Chicago
BEGIN:STANDARD
DTSTART:20261101T010000
TZOFFSETFROM:-0500
TZOFFSETTO:-0600
END:STANDARD
BEGIN:DAYLIGHT
DTSTART:20270314T010000
TZOFFSETFROM:-0600
TZOFFSETTO:-0500
END:DAYLIGHT
END:VTIMEZONE
BEGIN:VTIMEZONE
TZID:UTC
BEGIN:STANDARD
DTSTART:20250726T035413
TZOFFSETFROM:+0000
TZOFFSETTO:+0000
END:STANDARD
END:VTIMEZONE
BEGIN:VEVENT
UID:69e84665773ab
DTSTAMP:20260422T035413Z
SUMMARY:Surgent's Tax Forms Boot Camp: LLCs\, Partnerships\, and S Corporat
 ions
URL:https://ms-cpa.org/catalog/events/4344130-surgents-tax-forms-boot-camp-
 llcs-partnerships-and-s-corporations-2027-12-01
DTSTART;TZID=America/Chicago:20270112T090000
DTEND;TZID=America/Chicago:20270112T170000
END:VEVENT
END:VCALENDAR