BEGIN:VCALENDAR
VERSION:2.0
PRODID:spatie/icalendar-generator
NAME:Surgent's Forms 1120-S and 1065 Return Review Boot Camp for New and Ex
 perienced Reviewers
X-WR-CALNAME:Surgent's Forms 1120-S and 1065 Return Review Boot Camp for Ne
 w and Experienced Reviewers
BEGIN:VTIMEZONE
TZID:America/Chicago
BEGIN:STANDARD
DTSTART:20261101T010000
TZOFFSETFROM:-0500
TZOFFSETTO:-0600
END:STANDARD
BEGIN:DAYLIGHT
DTSTART:20270314T010000
TZOFFSETFROM:-0600
TZOFFSETTO:-0500
END:DAYLIGHT
END:VTIMEZONE
BEGIN:VTIMEZONE
TZID:UTC
BEGIN:STANDARD
DTSTART:20250726T035942
TZOFFSETFROM:+0000
TZOFFSETTO:+0000
END:STANDARD
END:VTIMEZONE
BEGIN:VEVENT
UID:69e847aeebf28
DTSTAMP:20260422T035942Z
SUMMARY:Surgent's Forms 1120-S and 1065 Return Review Boot Camp for New and
  Experienced Reviewers
URL:https://ms-cpa.org/catalog/events/4344119-surgents-forms-1120-s-and-106
 5-return-review-boot-camp-for-new-and-experienced-reviewers-2027-12-01
DTSTART;TZID=America/Chicago:20270112T090000
DTEND;TZID=America/Chicago:20270112T170000
END:VEVENT
END:VCALENDAR