BEGIN:VCALENDAR
VERSION:2.0
PRODID:spatie/icalendar-generator
NAME:Surgent's Top Ten Questions from Partnership Clients Regarding the Sec
 tion 754 Election
X-WR-CALNAME:Surgent's Top Ten Questions from Partnership Clients Regarding
  the Section 754 Election
BEGIN:VTIMEZONE
TZID:America/Chicago
BEGIN:STANDARD
DTSTART:20261101T010000
TZOFFSETFROM:-0500
TZOFFSETTO:-0600
END:STANDARD
BEGIN:DAYLIGHT
DTSTART:20270314T010000
TZOFFSETFROM:-0600
TZOFFSETTO:-0500
END:DAYLIGHT
END:VTIMEZONE
BEGIN:VTIMEZONE
TZID:UTC
BEGIN:STANDARD
DTSTART:20250726T035958
TZOFFSETFROM:+0000
TZOFFSETTO:+0000
END:STANDARD
END:VTIMEZONE
BEGIN:VEVENT
UID:69e847be6bab3
DTSTAMP:20260422T035958Z
SUMMARY:Surgent's Top Ten Questions from Partnership Clients Regarding the 
 Section 754 Election
URL:https://ms-cpa.org/catalog/events/4344117-surgents-top-ten-questions-fr
 om-partnership-clients-regarding-the-section-754-election-2027-12-01
DTSTART;TZID=America/Chicago:20270112T120000
DTEND;TZID=America/Chicago:20270112T160000
END:VEVENT
END:VCALENDAR