BEGIN:VCALENDAR
VERSION:2.0
PRODID:spatie/icalendar-generator
NAME:Surgent's Critical Issues Involving Taxation of Construction Contracto
 rs
X-WR-CALNAME:Surgent's Critical Issues Involving Taxation of Construction C
 ontractors
BEGIN:VTIMEZONE
TZID:America/Chicago
BEGIN:STANDARD
DTSTART:20261101T010000
TZOFFSETFROM:-0500
TZOFFSETTO:-0600
END:STANDARD
BEGIN:DAYLIGHT
DTSTART:20270314T010000
TZOFFSETFROM:-0600
TZOFFSETTO:-0500
END:DAYLIGHT
END:VTIMEZONE
BEGIN:VTIMEZONE
TZID:UTC
BEGIN:STANDARD
DTSTART:20250726T040151
TZOFFSETFROM:+0000
TZOFFSETTO:+0000
END:STANDARD
END:VTIMEZONE
BEGIN:VEVENT
UID:69e8482f39842
DTSTAMP:20260422T040151Z
SUMMARY:Surgent's Critical Issues Involving Taxation of Construction Contra
 ctors
URL:https://ms-cpa.org/catalog/events/4344019-surgents-critical-issues-invo
 lving-taxation-of-construction-contractors-2027-11-01
DTSTART;TZID=America/Chicago:20270111T120000
DTEND;TZID=America/Chicago:20270111T160000
END:VEVENT
END:VCALENDAR