BEGIN:VCALENDAR
VERSION:2.0
PRODID:spatie/icalendar-generator
NAME:Surgent's Four Tiers of Loss Limitations: A Guide to the Rules for Pas
 s-Through Entities
X-WR-CALNAME:Surgent's Four Tiers of Loss Limitations: A Guide to the Rules
  for Pass-Through Entities
BEGIN:VTIMEZONE
TZID:America/Chicago
BEGIN:STANDARD
DTSTART:20261101T010000
TZOFFSETFROM:-0500
TZOFFSETTO:-0600
END:STANDARD
BEGIN:DAYLIGHT
DTSTART:20270314T010000
TZOFFSETFROM:-0600
TZOFFSETTO:-0500
END:DAYLIGHT
END:VTIMEZONE
BEGIN:VTIMEZONE
TZID:UTC
BEGIN:STANDARD
DTSTART:20250726T040958
TZOFFSETFROM:+0000
TZOFFSETTO:+0000
END:STANDARD
END:VTIMEZONE
BEGIN:VEVENT
UID:69e84a161b639
DTSTAMP:20260422T040958Z
SUMMARY:Surgent's Four Tiers of Loss Limitations: A Guide to the Rules for 
 Pass-Through Entities
URL:https://ms-cpa.org/catalog/events/4343956-surgents-four-tiers-of-loss-l
 imitations-a-guide-to-the-rules-for-pass-through-entities-2027-11-01
DTSTART;TZID=America/Chicago:20270111T123000
DTEND;TZID=America/Chicago:20270111T163000
END:VEVENT
END:VCALENDAR