BEGIN:VCALENDAR
VERSION:2.0
PRODID:spatie/icalendar-generator
NAME:Surgent's Adapting to OBBBA Changes: A Strategic Review
X-WR-CALNAME:Surgent's Adapting to OBBBA Changes: A Strategic Review
BEGIN:VTIMEZONE
TZID:America/Chicago
BEGIN:STANDARD
DTSTART:20261101T010000
TZOFFSETFROM:-0500
TZOFFSETTO:-0600
END:STANDARD
BEGIN:DAYLIGHT
DTSTART:20270314T010000
TZOFFSETFROM:-0600
TZOFFSETTO:-0500
END:DAYLIGHT
END:VTIMEZONE
BEGIN:VTIMEZONE
TZID:UTC
BEGIN:STANDARD
DTSTART:20250726T035506
TZOFFSETFROM:+0000
TZOFFSETTO:+0000
END:STANDARD
END:VTIMEZONE
BEGIN:VEVENT
UID:69e8469ab4a6e
DTSTAMP:20260422T035506Z
SUMMARY:Surgent's Adapting to OBBBA Changes: A Strategic Review
URL:https://ms-cpa.org/catalog/events/4343903-surgents-adapting-to-obbba-ch
 anges-a-strategic-review-2027-11-01
DTSTART;TZID=America/Chicago:20270111T130000
DTEND;TZID=America/Chicago:20270111T150000
END:VEVENT
END:VCALENDAR