BEGIN:VCALENDAR
VERSION:2.0
PRODID:spatie/icalendar-generator
NAME:Surgent's Audit Skills Training Level 2: Preparing for Increasing Resp
 onsibilities in Public Accounting
X-WR-CALNAME:Surgent's Audit Skills Training Level 2: Preparing for Increas
 ing Responsibilities in Public Accounting
BEGIN:VTIMEZONE
TZID:America/Chicago
BEGIN:STANDARD
DTSTART:20261101T010000
TZOFFSETFROM:-0500
TZOFFSETTO:-0600
END:STANDARD
BEGIN:DAYLIGHT
DTSTART:20270314T010000
TZOFFSETFROM:-0600
TZOFFSETTO:-0500
END:DAYLIGHT
END:VTIMEZONE
BEGIN:VTIMEZONE
TZID:UTC
BEGIN:STANDARD
DTSTART:20250726T035602
TZOFFSETFROM:+0000
TZOFFSETTO:+0000
END:STANDARD
END:VTIMEZONE
BEGIN:VEVENT
UID:69e846d26049f
DTSTAMP:20260422T035602Z
SUMMARY:Surgent's Audit Skills Training Level 2: Preparing for Increasing R
 esponsibilities in Public Accounting
URL:https://ms-cpa.org/catalog/events/4343891-surgents-audit-skills-trainin
 g-level-2-preparing-for-increasing-responsibilities-in-public-accounting-2
 027-11-01
DTSTART;TZID=America/Chicago:20270111T090000
DTEND;TZID=America/Chicago:20270111T170000
END:VEVENT
END:VCALENDAR