BEGIN:VCALENDAR
VERSION:2.0
PRODID:spatie/icalendar-generator
NAME:Surgent's Guide to Understanding the At‑Risk Basis Rules and Forms 6
 198 and 7203
X-WR-CALNAME:Surgent's Guide to Understanding the At‑Risk Basis Rules and
  Forms 6198 and 7203
BEGIN:VTIMEZONE
TZID:America/Chicago
BEGIN:STANDARD
DTSTART:20261101T010000
TZOFFSETFROM:-0500
TZOFFSETTO:-0600
END:STANDARD
BEGIN:DAYLIGHT
DTSTART:20270314T010000
TZOFFSETFROM:-0600
TZOFFSETTO:-0500
END:DAYLIGHT
END:VTIMEZONE
BEGIN:VTIMEZONE
TZID:UTC
BEGIN:STANDARD
DTSTART:20250726T035507
TZOFFSETFROM:+0000
TZOFFSETTO:+0000
END:STANDARD
END:VTIMEZONE
BEGIN:VEVENT
UID:69e8469b1c321
DTSTAMP:20260422T035507Z
SUMMARY:Surgent's Guide to Understanding the At‑Risk Basis Rules and Form
 s 6198 and 7203
URL:https://ms-cpa.org/catalog/events/4343873-surgents-guide-to-understandi
 ng-the-atrisk-basis-rules-and-forms-6198-and-7203-2027-08-01
DTSTART;TZID=America/Chicago:20270108T120000
DTEND;TZID=America/Chicago:20270108T140000
END:VEVENT
END:VCALENDAR