BEGIN:VCALENDAR
VERSION:2.0
PRODID:spatie/icalendar-generator
NAME:Surgent's Understanding S Corporation Taxation: Compensation Issues an
 d Entity-Level Taxes
X-WR-CALNAME:Surgent's Understanding S Corporation Taxation: Compensation I
 ssues and Entity-Level Taxes
BEGIN:VTIMEZONE
TZID:America/Chicago
BEGIN:STANDARD
DTSTART:20261101T010000
TZOFFSETFROM:-0500
TZOFFSETTO:-0600
END:STANDARD
BEGIN:DAYLIGHT
DTSTART:20270314T010000
TZOFFSETFROM:-0600
TZOFFSETTO:-0500
END:DAYLIGHT
END:VTIMEZONE
BEGIN:VTIMEZONE
TZID:UTC
BEGIN:STANDARD
DTSTART:20250726T035957
TZOFFSETFROM:+0000
TZOFFSETTO:+0000
END:STANDARD
END:VTIMEZONE
BEGIN:VEVENT
UID:69e847bdf1887
DTSTAMP:20260422T035957Z
SUMMARY:Surgent's Understanding S Corporation Taxation: Compensation Issues
  and Entity-Level Taxes
URL:https://ms-cpa.org/catalog/events/4343847-surgents-understanding-s-corp
 oration-taxation-compensation-issues-and-entity-level-taxes-2027-08-01
DTSTART;TZID=America/Chicago:20270108T080000
DTEND;TZID=America/Chicago:20270108T100000
END:VEVENT
END:VCALENDAR