BEGIN:VCALENDAR
VERSION:2.0
PRODID:spatie/icalendar-generator
NAME:Surgent's Taking Advantage of Installment Sales and Like-Kind Exchange
 s
X-WR-CALNAME:Surgent's Taking Advantage of Installment Sales and Like-Kind 
 Exchanges
BEGIN:VTIMEZONE
TZID:America/Chicago
BEGIN:STANDARD
DTSTART:20261101T010000
TZOFFSETFROM:-0500
TZOFFSETTO:-0600
END:STANDARD
BEGIN:DAYLIGHT
DTSTART:20270314T010000
TZOFFSETFROM:-0600
TZOFFSETTO:-0500
END:DAYLIGHT
END:VTIMEZONE
BEGIN:VTIMEZONE
TZID:UTC
BEGIN:STANDARD
DTSTART:20250726T040100
TZOFFSETFROM:+0000
TZOFFSETTO:+0000
END:STANDARD
END:VTIMEZONE
BEGIN:VEVENT
UID:69e847fca48c2
DTSTAMP:20260422T040100Z
SUMMARY:Surgent's Taking Advantage of Installment Sales and Like-Kind Excha
 nges
URL:https://ms-cpa.org/catalog/events/4343828-surgents-taking-advantage-of-
 installment-sales-and-like-kind-exchanges-2027-08-01
DTSTART;TZID=America/Chicago:20270108T120000
DTEND;TZID=America/Chicago:20270108T160000
END:VEVENT
END:VCALENDAR