BEGIN:VCALENDAR
VERSION:2.0
PRODID:spatie/icalendar-generator
NAME:Surgent's Tax Reporting for Executive Compensation
X-WR-CALNAME:Surgent's Tax Reporting for Executive Compensation
BEGIN:VTIMEZONE
TZID:America/Chicago
BEGIN:STANDARD
DTSTART:20261101T010000
TZOFFSETFROM:-0500
TZOFFSETTO:-0600
END:STANDARD
BEGIN:DAYLIGHT
DTSTART:20270314T010000
TZOFFSETFROM:-0600
TZOFFSETTO:-0500
END:DAYLIGHT
END:VTIMEZONE
BEGIN:VTIMEZONE
TZID:UTC
BEGIN:STANDARD
DTSTART:20250726T061203
TZOFFSETFROM:+0000
TZOFFSETTO:+0000
END:STANDARD
END:VTIMEZONE
BEGIN:VEVENT
UID:69e866b3e8d5e
DTSTAMP:20260422T061203Z
SUMMARY:Surgent's Tax Reporting for Executive Compensation
URL:https://ms-cpa.org/catalog/events/4343795-surgents-tax-reporting-for-ex
 ecutive-compensation-2027-08-01
DTSTART;TZID=America/Chicago:20270108T090000
DTEND;TZID=America/Chicago:20270108T110000
END:VEVENT
END:VCALENDAR